BEGIN:VCALENDAR
VERSION:2.0
PRODID:-//JERMIS – Strategische Finanzberatung - ECPv6.15.20//NONSGML v1.0//EN
CALSCALE:GREGORIAN
METHOD:PUBLISH
X-WR-CALNAME:JERMIS – Strategische Finanzberatung
X-ORIGINAL-URL:https://jermis-finanzen.de
X-WR-CALDESC:Veranstaltungen für JERMIS – Strategische Finanzberatung
REFRESH-INTERVAL;VALUE=DURATION:PT1H
X-Robots-Tag:noindex
X-PUBLISHED-TTL:PT1H
BEGIN:VTIMEZONE
TZID:Europe/Berlin
BEGIN:DAYLIGHT
TZOFFSETFROM:+0100
TZOFFSETTO:+0200
TZNAME:CEST
DTSTART:20250330T010000
END:DAYLIGHT
BEGIN:STANDARD
TZOFFSETFROM:+0200
TZOFFSETTO:+0100
TZNAME:CET
DTSTART:20251026T010000
END:STANDARD
BEGIN:DAYLIGHT
TZOFFSETFROM:+0100
TZOFFSETTO:+0200
TZNAME:CEST
DTSTART:20260329T010000
END:DAYLIGHT
BEGIN:STANDARD
TZOFFSETFROM:+0200
TZOFFSETTO:+0100
TZNAME:CET
DTSTART:20261025T010000
END:STANDARD
BEGIN:DAYLIGHT
TZOFFSETFROM:+0100
TZOFFSETTO:+0200
TZNAME:CEST
DTSTART:20270328T010000
END:DAYLIGHT
BEGIN:STANDARD
TZOFFSETFROM:+0200
TZOFFSETTO:+0100
TZNAME:CET
DTSTART:20271031T010000
END:STANDARD
END:VTIMEZONE
BEGIN:VEVENT
DTSTART;TZID=Europe/Berlin:20260120T180000
DTEND;TZID=Europe/Berlin:20260120T200000
DTSTAMP:20260422T163052
CREATED:20251112T150501Z
LAST-MODIFIED:20251112T150702Z
UID:5322-1768932000-1768939200@jermis-finanzen.de
SUMMARY:"Geld verstehen" - Legen Sie den Grundstein für Ihre finanzielle Zukunft
DESCRIPTION:Geld verstehen – Legen Sie den Grundstein für Ihre finanzielle Zukunft Wir laden Sie herzlich zu unserem informativen und praxisnahen Vortrag „Geld verstehen“ ein. In den letzten Jahren haben wir uns intensiv damit beschäftigt\, wie Menschen ihre finanziellen Ziele erreichen und ihre Lebensvorstellungen verwirklichen können. Warum ist Finanzwissen heute so wichtig? In der heutigen Zeit ist es unerlässlich\, sich mit dem Thema Geld auseinanderzusetzen und ein solides Grundwissen aufzubauen. Nur so können Sie fundierte Entscheidungen treffen und Ihre finanzielle Zukunft selbst in die Hand nehmen. Was erwartet Sie in diesem Vortrag? Unser Einsteiger-Vortrag „Geld verstehen“ vermittelt Ihnen auf einfache und verständliche Weise die Grundlagen des Finanzwissens. Im ersten Teil des Vortrags werden die wichtigsten Themen rund ums Geld behandelt\, wie z. B. der Wirtschaftskreislauf\, Renten und gängige Finanzprodukte.Nach einer kurzen Pause in der Sie sich bei Getränken und Snacks austauschen können\, geht es im zweiten Teil um alternative Investitionsmöglichkeiten für die langfristige Planung (Aktien\, Fonds\, Anleihen\, Kostenstrukturen\, Finanzplan).Im Anschluss an den Vortrag haben Sie die Möglichkeit\, in persönlichen Gesprächen auf den Vortrag einzugehen und Ihre Fragen zu stellen.Ihre Vorteile auf einen Blick Einfache und verständliche Vermittlung von FinanzgrundlagenÜberblick über wichtige Themen rund ums Geld (Wirtschaft\, Rente\, Finanzprodukte)Einblick in alternative Investitionsmöglichkeiten für die langfristige PlanungMöglichkeit zum persönlichen Austausch und zur Klärung offener FragenBuchen Sie jetzt Ihren Platz! Wir bieten Rabatte für Gruppentickets an. Sichern Sie sich noch heute Ihren Platz für unseren Vortrag „Geld verstehen“ und legen Sie den Grundstein für Ihre finanzielle Zukunft. Wir freuen uns auf Sie! Zusätzliche Informationen Veranstaltungsort: JERMIS Strategische Finanzberatung * Koenigsallee 72 * 14193 BerlinDatum und Uhrzeit: 20.01.2026 – Einlass 17.40 Uhr – Beginn des Vortrags 18.00 Uhr (Ende voraussichtlich 20.00 Uhr)Kosten: ab 20\,00 EURTickets gibt es direkt in unserem Onlineshop: 								\n				\n				\n				\n									\n					\n						\n									Ticket/Gruppenticket kaufen
URL:https://jermis-finanzen.de/veranstaltung/geld-verstehen-legen-sie-den-grundstein-fuer-ihre-finanzielle-zukunft-20-01-2026/
LOCATION:JERMIS Strategische Finanzberatung\, Koenigsallee 72\, Berlin\, Berlin\, 14193\, Germany
CATEGORIES:Live-Vorträge
ATTACH;FMTTYPE=image/webp:https://jermis-finanzen.de/wp-content/uploads/2025/02/Thumb_Live-Vortrag-vor-Ort-gruen.webp
ORGANIZER;CN="Jermis Finanzen":MAILTO:info@jermis-finanzen.de
END:VEVENT
END:VCALENDAR